BEGIN:VCALENDAR
VERSION:2.0
PRODID:-//Hildegard 2029 - ECPv6.15.20//NONSGML v1.0//EN
CALSCALE:GREGORIAN
METHOD:PUBLISH
X-WR-CALNAME:Hildegard 2029
X-ORIGINAL-URL:https://hildegard2029.de
X-WR-CALDESC:Veranstaltungen für Hildegard 2029
REFRESH-INTERVAL;VALUE=DURATION:PT1H
X-Robots-Tag:noindex
X-PUBLISHED-TTL:PT1H
BEGIN:VTIMEZONE
TZID:Europe/Berlin
BEGIN:DAYLIGHT
TZOFFSETFROM:+0100
TZOFFSETTO:+0200
TZNAME:CEST
DTSTART:20240331T010000
END:DAYLIGHT
BEGIN:STANDARD
TZOFFSETFROM:+0200
TZOFFSETTO:+0100
TZNAME:CET
DTSTART:20241027T010000
END:STANDARD
BEGIN:DAYLIGHT
TZOFFSETFROM:+0100
TZOFFSETTO:+0200
TZNAME:CEST
DTSTART:20250330T010000
END:DAYLIGHT
BEGIN:STANDARD
TZOFFSETFROM:+0200
TZOFFSETTO:+0100
TZNAME:CET
DTSTART:20251026T010000
END:STANDARD
BEGIN:DAYLIGHT
TZOFFSETFROM:+0100
TZOFFSETTO:+0200
TZNAME:CEST
DTSTART:20260329T010000
END:DAYLIGHT
BEGIN:STANDARD
TZOFFSETFROM:+0200
TZOFFSETTO:+0100
TZNAME:CET
DTSTART:20261025T010000
END:STANDARD
END:VTIMEZONE
BEGIN:VEVENT
DTSTART;TZID=Europe/Berlin:20251124T190000
DTEND;TZID=Europe/Berlin:20251124T203000
DTSTAMP:20260423T135651
CREATED:20251006T110216Z
LAST-MODIFIED:20251006T110216Z
UID:10000015-1764010800-1764016200@hildegard2029.de
SUMMARY:Hildegard-Gesprächskreis · Von den Himmelfreuden
DESCRIPTION:Von den Himmelfreuden\, die Herrlichkeit der Seligen\, in den himmlischen Wohnstätten\nMontag\, 24. November 2025\, Conny Heeser \nHildegard-Gesprächskreis im Gästehaus der Abtei St. Hildegard Rüdesheim-Eibingen um 19.00 Uhr. \nOrt: Abtei St. Hildegard 1\, 65385 Rüdesheim \nAnsprechpartnerin ist Sr. Hiltrud Gutjahr\, sr.hiltrud@abtei-st-hildegard.de \n  \n  \n  \n 
URL:https://hildegard2029.de/event/hildegard-gespraechskreis-%c2%b7-von-den-himmelfreuden/
LOCATION:Abtei St. Hildegard\, Abtei St. Hildegard 1\, Rüdesheim\, Hessen\, 65385\, Germany
CATEGORIES:Gesprächskreis
ATTACH;FMTTYPE=image/jpeg:https://hildegard2029.de/wp-content/uploads/2025/08/Abtei_st-Hildegard_2018_16cAbtei-kl.jpg
END:VEVENT
END:VCALENDAR