BEGIN:VCALENDAR
VERSION:2.0
PRODID:-//Hildegard 2029 - ECPv6.15.20//NONSGML v1.0//EN
CALSCALE:GREGORIAN
METHOD:PUBLISH
X-ORIGINAL-URL:https://hildegard2029.de
X-WR-CALDESC:Veranstaltungen für Hildegard 2029
REFRESH-INTERVAL;VALUE=DURATION:PT1H
X-Robots-Tag:noindex
X-PUBLISHED-TTL:PT1H
BEGIN:VTIMEZONE
TZID:Europe/Berlin
BEGIN:DAYLIGHT
TZOFFSETFROM:+0100
TZOFFSETTO:+0200
TZNAME:CEST
DTSTART:20250330T010000
END:DAYLIGHT
BEGIN:STANDARD
TZOFFSETFROM:+0200
TZOFFSETTO:+0100
TZNAME:CET
DTSTART:20251026T010000
END:STANDARD
BEGIN:DAYLIGHT
TZOFFSETFROM:+0100
TZOFFSETTO:+0200
TZNAME:CEST
DTSTART:20260329T010000
END:DAYLIGHT
BEGIN:STANDARD
TZOFFSETFROM:+0200
TZOFFSETTO:+0100
TZNAME:CET
DTSTART:20261025T010000
END:STANDARD
BEGIN:DAYLIGHT
TZOFFSETFROM:+0100
TZOFFSETTO:+0200
TZNAME:CEST
DTSTART:20270328T010000
END:DAYLIGHT
BEGIN:STANDARD
TZOFFSETFROM:+0200
TZOFFSETTO:+0100
TZNAME:CET
DTSTART:20271031T010000
END:STANDARD
END:VTIMEZONE
BEGIN:VEVENT
DTSTART;TZID=Europe/Berlin:20260416T190000
DTEND;TZID=Europe/Berlin:20260416T203000
DTSTAMP:20260419T191954
CREATED:20260122T090737Z
LAST-MODIFIED:20260122T090737Z
UID:10000038-1776366000-1776371400@hildegard2029.de
SUMMARY:Was sagt Hildegard...?
DESCRIPTION:Wut und Freude\nWas sagt Hildegard…? | Hildegard-Gesprächskreis Rheinhessen-Nahe \nWie wirken sich diese Emotionen auf unseren Körper und unseren Geist aus. Welche Anregungen können uns Hildegard’s Texte hierzu für unseren Alltag geben? Das zeigt Lioba Neumann auf. Im anschließenden „Walk & Talk“ (auf dem Rundweg zur Panorama- Schaukel – mit Ausblick auf den Rhein) können wir gemeinsam über unsere Sichtweise hierzu diskutieren. \n16. April 2026\, 19:00 – ca. 20:30 Uhr\n(St. Hildegardishaus/ Kloster UND Weinberg\, Rochusberg 1\, 55411 Bingen) \n 
URL:https://hildegard2029.de/event/was-sagt-hildegard-2/
LOCATION:St. Hildegardishaus / Kloster UND Weinberg\, Rochusberg 1\, Bingen\, Rheinland-Pfalz\, 55411\, Germany
CATEGORIES:Gesprächskreis
ATTACH;FMTTYPE=image/jpeg:https://hildegard2029.de/wp-content/uploads/2025/10/8799-Hildegardstehle-kl.jpg
END:VEVENT
END:VCALENDAR