BEGIN:VCALENDAR
VERSION:2.0
PRODID:-//Hildegard 2029 - ECPv6.15.20//NONSGML v1.0//EN
CALSCALE:GREGORIAN
METHOD:PUBLISH
X-ORIGINAL-URL:https://hildegard2029.de
X-WR-CALDESC:Veranstaltungen für Hildegard 2029
REFRESH-INTERVAL;VALUE=DURATION:PT1H
X-Robots-Tag:noindex
X-PUBLISHED-TTL:PT1H
BEGIN:VTIMEZONE
TZID:Europe/Berlin
BEGIN:DAYLIGHT
TZOFFSETFROM:+0100
TZOFFSETTO:+0200
TZNAME:CEST
DTSTART:20250330T010000
END:DAYLIGHT
BEGIN:STANDARD
TZOFFSETFROM:+0200
TZOFFSETTO:+0100
TZNAME:CET
DTSTART:20251026T010000
END:STANDARD
BEGIN:DAYLIGHT
TZOFFSETFROM:+0100
TZOFFSETTO:+0200
TZNAME:CEST
DTSTART:20260329T010000
END:DAYLIGHT
BEGIN:STANDARD
TZOFFSETFROM:+0200
TZOFFSETTO:+0100
TZNAME:CET
DTSTART:20261025T010000
END:STANDARD
BEGIN:DAYLIGHT
TZOFFSETFROM:+0100
TZOFFSETTO:+0200
TZNAME:CEST
DTSTART:20270328T010000
END:DAYLIGHT
BEGIN:STANDARD
TZOFFSETFROM:+0200
TZOFFSETTO:+0100
TZNAME:CET
DTSTART:20271031T010000
END:STANDARD
END:VTIMEZONE
BEGIN:VEVENT
DTSTART;TZID=Europe/Berlin:20260506T183000
DTEND;TZID=Europe/Berlin:20260506T200000
DTSTAMP:20260420T003941
CREATED:20251103T091444Z
LAST-MODIFIED:20251103T091444Z
UID:10000024-1778092200-1778097600@hildegard2029.de
SUMMARY:Die Beziehungen Hildegards von Bingen zur Kirche von Trier — eine lebenslange Verbundenheit.
DESCRIPTION:Mittwoch\, 6. Mai\, 18:30 Uhr \n„Die Beziehungen Hildegards von Bingen zur Kirche von Trier — eine lebenslange Verbundenheit.“\nProf. Dr. Michael Embach: \nHildegard von Bingen unterhielt lebenslang gute Kontakte zur Kirche von Trier. Am Beginn ihres öffentlichen Wirkens steht das Trierer Provinzialkonzil von 1147/48. Papst Eugen III. und Bernhard von Clairvaux „approbierten“ den im Entstehen begriffenen „Liber Scivias“ und erhoben Hildegard zu einer weithin geachteten Stimme der Kirche.  \nBereits im vorgerückten Alter unternahm Hildegard eine Predigtreise\, die sie u. a. nach Trier führte. Die dort gehaltene Ansprache ist im Rahmen des Epistolariums überliefert. Sie zeigt Hildegard als Mahnerin\, die den Klerus von Trier auffordert\, auf den Weg der Heiligkeit zurückzukehren. Gegen Ende ihres Lebens erhielt Hildegard tatkräftige Hilfe aus Trier\, um ihre dritte Visionsschrift fertigzustellen. Zum Dank übersandte sie zahlreiche Abschriften ihrer Werke nach Trier. Die Abteien der Stadt Trier entwickelten sich zu bedeutenden Zentren der Hildegard-Überlieferung. Letztendlich bezeugen die nach Trier gegebenen Reliquien Hildegards (Haare\, Grabschleier\, „Krone“) die fortwirkende Verbundenheit.
URL:https://hildegard2029.de/event/beziehungen-hildegards-von-bingen-zur-kirche-von-trier/
LOCATION:Abtei St. Hildegard\, Abtei St. Hildegard 1\, Rüdesheim\, Hessen\, 65385\, Germany
CATEGORIES:Vortrag
ATTACH;FMTTYPE=image/jpeg:https://hildegard2029.de/wp-content/uploads/2025/10/20230418_191834_kl.jpg
END:VEVENT
END:VCALENDAR