BEGIN:VCALENDAR
VERSION:2.0
PRODID:-//Hildegard 2029 - ECPv6.15.20//NONSGML v1.0//EN
CALSCALE:GREGORIAN
METHOD:PUBLISH
X-WR-CALNAME:Hildegard 2029
X-ORIGINAL-URL:https://hildegard2029.de
X-WR-CALDESC:Veranstaltungen für Hildegard 2029
REFRESH-INTERVAL;VALUE=DURATION:PT1H
X-Robots-Tag:noindex
X-PUBLISHED-TTL:PT1H
BEGIN:VTIMEZONE
TZID:Europe/Berlin
BEGIN:DAYLIGHT
TZOFFSETFROM:+0100
TZOFFSETTO:+0200
TZNAME:CEST
DTSTART:20240331T010000
END:DAYLIGHT
BEGIN:STANDARD
TZOFFSETFROM:+0200
TZOFFSETTO:+0100
TZNAME:CET
DTSTART:20241027T010000
END:STANDARD
BEGIN:DAYLIGHT
TZOFFSETFROM:+0100
TZOFFSETTO:+0200
TZNAME:CEST
DTSTART:20250330T010000
END:DAYLIGHT
BEGIN:STANDARD
TZOFFSETFROM:+0200
TZOFFSETTO:+0100
TZNAME:CET
DTSTART:20251026T010000
END:STANDARD
BEGIN:DAYLIGHT
TZOFFSETFROM:+0100
TZOFFSETTO:+0200
TZNAME:CEST
DTSTART:20260329T010000
END:DAYLIGHT
BEGIN:STANDARD
TZOFFSETFROM:+0200
TZOFFSETTO:+0100
TZNAME:CET
DTSTART:20261025T010000
END:STANDARD
END:VTIMEZONE
BEGIN:VEVENT
DTSTART;TZID=Europe/Berlin:20250917T080000
DTEND;TZID=Europe/Berlin:20250917T170000
DTSTAMP:20260422T235228
CREATED:20250825T203353Z
LAST-MODIFIED:20250825T204230Z
UID:10000008-1758096000-1758128400@hildegard2029.de
SUMMARY:Hildegardisfest Eibingen
DESCRIPTION:Wallfahrtstag zu Ehren der heiligen Hildegard\nMittwoch\, 17. September 2025 \nProgramm\n\n08:00 Uhr – Choralamt in der Abteikirche\n10:00 Uhr – Feierliches Pontifikalamt mit Weihbischof Leo Wagener (Luxemburg) auf dem Kirchplatz vor der Wallfahrtskirche\n12:00 Uhr – Reliquienverehrung in der Wallfahrtskirche\nGastronomisches Angebot im Pfarrhof\n15:00 Uhr – Reliquienfeier vor der Wallfahrtskirche\nFestansprache: Sr. Dr. Raphaela Brüggenthies OSB\, Priorin der Abtei St. Hildegard\nBegleitende Kinderkatechese\nDie anschließende Prozession führt in diesem Jahr durch Eibingen und die Weinberge zur Abtei St. Hildegard.\n17:00 Uhr – Hildegard-Vesper in der Abteikirche\n\nVeranstaltungsort\nPfarrei Heilig Kreuz Rheingau\nKirchort St. Hildegard\nMarienthaler Str. 3\, 65385 Rüdesheim \nKontakt\nE-Mail: wallfahrtsseelsorge@heilig-kreuz-rheingau.de\nWeb: www.heilig-kreuz-rheingau.de \nMitveranstalter\nAbtei St. Hildegard\nKlosterweg 1\, 65385 Rüdesheim\nWeb: www.abtei-st-hildegard.de
URL:https://hildegard2029.de/event/hildegardisfest-eibingen/
LOCATION:Pfarrei Heilig Kreuz Rheingau\, Kirchort St. Hildegard\, Marienthaler Str. 3\, Rüdesheim\, Hessen\, 65385\, Germany
CATEGORIES:HildegardFeste
ATTACH;FMTTYPE=image/jpeg:https://hildegard2029.de/wp-content/uploads/2025/08/030_Abb_8-kl.jpg
END:VEVENT
END:VCALENDAR