BEGIN:VCALENDAR
VERSION:2.0
PRODID:-//Hildegard 2029 - ECPv6.15.20//NONSGML v1.0//EN
CALSCALE:GREGORIAN
METHOD:PUBLISH
X-WR-CALNAME:Hildegard 2029
X-ORIGINAL-URL:https://hildegard2029.de
X-WR-CALDESC:Veranstaltungen für Hildegard 2029
REFRESH-INTERVAL;VALUE=DURATION:PT1H
X-Robots-Tag:noindex
X-PUBLISHED-TTL:PT1H
BEGIN:VTIMEZONE
TZID:Europe/Berlin
BEGIN:DAYLIGHT
TZOFFSETFROM:+0100
TZOFFSETTO:+0200
TZNAME:CEST
DTSTART:20250330T010000
END:DAYLIGHT
BEGIN:STANDARD
TZOFFSETFROM:+0200
TZOFFSETTO:+0100
TZNAME:CET
DTSTART:20251026T010000
END:STANDARD
BEGIN:DAYLIGHT
TZOFFSETFROM:+0100
TZOFFSETTO:+0200
TZNAME:CEST
DTSTART:20260329T010000
END:DAYLIGHT
BEGIN:STANDARD
TZOFFSETFROM:+0200
TZOFFSETTO:+0100
TZNAME:CET
DTSTART:20261025T010000
END:STANDARD
BEGIN:DAYLIGHT
TZOFFSETFROM:+0100
TZOFFSETTO:+0200
TZNAME:CEST
DTSTART:20270328T010000
END:DAYLIGHT
BEGIN:STANDARD
TZOFFSETFROM:+0200
TZOFFSETTO:+0100
TZNAME:CET
DTSTART:20271031T010000
END:STANDARD
END:VTIMEZONE
BEGIN:VEVENT
DTSTART;TZID=Europe/Berlin:20260528T190000
DTEND;TZID=Europe/Berlin:20260528T203000
DTSTAMP:20260420T051258
CREATED:20260112T090801Z
LAST-MODIFIED:20260112T090801Z
UID:10000036-1779994800-1780000200@hildegard2029.de
SUMMARY:GanzSchön!
DESCRIPTION:Was bedeutet „ganzheitliches Schönsein“ bei Hildegard von Bingen und welche Hinweise findet man dazu in ihren Werken?  Anhand von Original-Zitaten und mit spirituelle Impulsen versuchen Susanne Oelerich und Lioba Neumann diese Fragen zu beantworten und geben leicht anzuwendende Tipps. Natürlich geht es dabei auch um die Anwendung von Heilkräutern. In einem praktischen Teil  stellt Irmgard Weidner gemeinsam mit den Teilnehmern an diesem Abend eine Quendelsalbe her. Quendel  (Wilder Thymian) ist bekannt für seine  schleimlösende\, antibakterielle und und krampflösend Wirkung.  Äußerlich wird Quendel bei Hautproblemen\, irritierter Haut\, Akne  und zur Durchblutungsförderung genutzt\, er hat eine belebende Wirkung und ist ein traditionelles Kraut der Hildegard-Medizin\, bekannt für seine wärmenden Eigenschaften. Eine Gemeinschaftsveranstaltung des Hildegard Gesprächskreises Rheinhessen-Nahe mit der Rupertsberger Hildegard-Gesellschaft Bingen \n  \n 
URL:https://hildegard2029.de/event/ganzschoen/
LOCATION:Rupertsberger Gewölbe\, Am Rupertsberg 16\, Bingen-Bingerbrück\, Rheinland-Pfalz\, 55411\, Germany
CATEGORIES:Gesprächskreis
ATTACH;FMTTYPE=image/jpeg:https://hildegard2029.de/wp-content/uploads/2026/01/20260103_091431-scaled.jpg
ORGANIZER;CN="Rupertsberger Hildegard-Gesellschaft Bingen e.V":MAILTO:info@rhg-Bingen.de
END:VEVENT
BEGIN:VEVENT
DTSTART;TZID=Europe/Berlin:20260611T090000
DTEND;TZID=Europe/Berlin:20260612T110000
DTSTAMP:20260420T051258
CREATED:20251119T163603Z
LAST-MODIFIED:20251119T163603Z
UID:10000029-1781168400-1781262000@hildegard2029.de
SUMMARY:FRAUENFRÜHSTÜCK im Juni
DESCRIPTION:„Köstliche Hildegard-Gewürze“\nWie können wir welches Gewürz beim Kochen ganz einfach mitverwenden und uns selbst damit genüsslich etwas Gutes tun?\nSusanne Oelerich stellt Ihnen aus Hildegards Originalschriften einige interessante Tipps für die gezielte Nutzung sowie die Kraft der Zutaten vor.\nAuf dem Plan stehen neben bekannten Anwendungen auch einige\, die eine überraschend neue Sicht eröffnen.\nReferentin: Susanne Oelerich \nTermine:\nDo 11. und Fr 12. Juni 2026\nZeit: 9:00-11:00 Uhr \nBeitragsfoto: Hildegardforum
URL:https://hildegard2029.de/event/frauenfruehstueck-im-juni/
LOCATION:Hildegard Forum\, Rochusberg 1\, Bingen\, Rheinland-Pfalz\, 55411\, Germany
CATEGORIES:Vortrag
ATTACH;FMTTYPE=image/jpeg:https://hildegard2029.de/wp-content/uploads/2025/11/Frauenfruehstueck-im-Juni-kl.jpg
END:VEVENT
BEGIN:VEVENT
DTSTART;VALUE=DATE:20260615
DTEND;VALUE=DATE:20260622
DTSTAMP:20260420T051258
CREATED:20260112T091448Z
LAST-MODIFIED:20260112T091550Z
UID:10000037-1781481600-1782086399@hildegard2029.de
SUMMARY:Rupertsberger Pilgertage
DESCRIPTION:Vom Kloster Maria Laach nach Köln  \nBei der „Großen Pilgerwanderung“ folgen wir den Spuren der hl. Hildegard auf ihren Pilgerreisen. So waren bisher z.B. Bamberg\, Würzburg\, Zwiefalten\, Ebrach\, Maulbronn und Hirsau unsere Ziele. \nBesonders bekannt ist die Reise Hildegards nach Köln\, wo sie vor dem Klerus gepredigt hat. Im letzten Jahr sind wir die erste Strecke vom Rupertsberg nach Maria Laach gepilgert. In diesem Jahr wollen wir nun von dort starten und  Köln erreichen. Die täglichen Strecken liegen zwischen 15 km und 20 km. Genauso wie Hildegard es wahrscheinlich getan hat\, werden wir auch kurz einmal ein Schiff als Fortbewegungsmittel zu Hilfe nehmen. Die Teilnehmerzahl ist auf 20 begrenzt. \nWir bitten um Anmeldung bei H.Lautensack@rhg-bingen.de oder 06721 308835 \n 
URL:https://hildegard2029.de/event/rupertsberger-pilgertage/
ATTACH;FMTTYPE=image/jpeg:https://hildegard2029.de/wp-content/uploads/2026/01/altes-logo-2026.jpg
ORGANIZER;CN="Rupertsberger Hildegard-Gesellschaft Bingen e.V":MAILTO:info@rhg-Bingen.de
END:VEVENT
BEGIN:VEVENT
DTSTART;TZID=Europe/Berlin:20260620T183000
DTEND;TZID=Europe/Berlin:20260620T200000
DTSTAMP:20260420T051258
CREATED:20251103T091957Z
LAST-MODIFIED:20251103T092429Z
UID:10000025-1781980200-1781985600@hildegard2029.de
SUMMARY:Wo lebte Hildegard wirklich?
DESCRIPTION:Samstag\, 20. Juni\, 13:30 Uhr \nWo lebte Hildegard wirklich? – Exkursion nach Sponheim und zur Klosterruine Disibodenberg\nFührung: Dr. Eberhard J. Nikitsch\nTreffpunkt: 13:30 Uhr\, Parkplatz vor der ehem. Klosterkirche und heutigen kath. Pfarrkirche St. Martin\, 55595 Sponheim \nHildegard bezog im Jahr 1112 als junges Mädchen gemeinsam mit der nur wenig älteren Jutta von Sponheim die Frauenklause des Benediktiner-Männerklosters Disibodenberg. In Sponheim und auf dem Disibodenberg verbrachte Hildegard ihre prägenden frühen Jahre und folgte Jutta im Jahr 1136 als Leiterin der Klause nach. Sie verfasste dort noch vor ihrem Wechsel auf den Rupertsberg bei Bingen mit dem „Liber Scivias“ (Buch der Wegweisung) ihr erstes großes Werk – Gründe genug\, um der Frage nach den Orten des Geschehens unter verschiedenen Aspekten nachzugehen.  \nBeschränkte Teilnehmerzahl. Um verbindliche Anmeldung bis spätestens zum 13. Juni 2026 wird gebeten: Eberhard.J.Nikitsch@adwmainz.de.
URL:https://hildegard2029.de/event/wo-lebte-hildegard-wirklich/
LOCATION:kath. Pfarrkirche St. Martin\, 55595 Sponheim\, Klosterhof 3\, Sponheim\, Rheinland-Pfalz\, 55595\, Germany
CATEGORIES:Führung
ATTACH;FMTTYPE=image/jpeg:https://hildegard2029.de/wp-content/uploads/2025/10/20230418_191834_kl.jpg
END:VEVENT
BEGIN:VEVENT
DTSTART;TZID=Europe/Berlin:20260715T183000
DTEND;TZID=Europe/Berlin:20260715T200000
DTSTAMP:20260420T051258
CREATED:20251103T092345Z
LAST-MODIFIED:20251103T092345Z
UID:10000026-1784140200-1784145600@hildegard2029.de
SUMMARY:Klösterliche Spiritualität im Medium der Inschriften
DESCRIPTION:Mittwoch 15 Juli\, 18:30 Uhr \n„Klösterliche Spiritualität im Medium der Inschriften.\nDer Augsburger Abt Uodalscalc– ein Zeitgenosse Hildegards von Bingen“\nMirdha Joti und Prof. Dr. Michael Oberweis\nAbt Uodalscalc leitete das Augsburger Benediktinerkloster St. Ulrich und Afra von 1127 bis ca. 1152. Seine Gelehrsamkeit bewies er durch mehrere Geschichtswerke und eine musiktheoretische Abhandlung\, daneben trat er auch mit kunstvollen Dichtungen hervor. Besonders kennzeichnend für sein Wirken als Abt sind die zahlreichen Inschriften\, die er für die Klosterkirche\, den Kapitelsaal und andere Gemeinschaftsräume entwarf. Teils erbaulichen\, teils belehrenden Inhalts\, nehmen sie auf – heute verlorenen – Bilddarstellungen Bezug und spiegeln so das monastische Selbstverständnis und das Bildungsideal eines Benediktinerklosters des 12. Jahrhunderts. \nAnhand ausgewählter Beispiele aus Uodalscalcs reichem Schaffen will der Vortrag zeigen\, mit welch einfühlsamer Didaktik ein Abt des Hochmittelalters monastische Spiritualität in Wort und Bild zu vermitteln verstand. Es wird reizvoll sein\, Parallelen zwischen Uodalscalcs Gedankenwelt und der spirituellen Theologie seiner Amtskollegin Hildegard von Bingen zu entdecken.
URL:https://hildegard2029.de/event/kloesterliche-spiritualitaet-im-medium-der-inschriften/
LOCATION:Abtei St. Hildegard\, Abtei St. Hildegard 1\, Rüdesheim\, Hessen\, 65385\, Germany
CATEGORIES:Vortrag
ATTACH;FMTTYPE=image/jpeg:https://hildegard2029.de/wp-content/uploads/2025/10/20230418_191834_kl.jpg
END:VEVENT
BEGIN:VEVENT
DTSTART;TZID=Europe/Berlin:20260911T183000
DTEND;TZID=Europe/Berlin:20260911T200000
DTSTAMP:20260420T051258
CREATED:20251103T092722Z
LAST-MODIFIED:20251103T154720Z
UID:10000027-1789151400-1789156800@hildegard2029.de
SUMMARY:Dialogkonzert: Hildegards Kosmologie trifft Klänge aus der Quantenwelt
DESCRIPTION:Freitag\, 11. September\, 18:30 Uhr \nDialogkonzert: Hildegards Kosmologie trifft Klänge aus der Quantenwelt\nMit Dr. Maura Zátonyi\, Dr. Lukas Grünhaupt und Dr. Thomas Tichai ist es gelungen drei Fachgebiete\, Philosophie\, Quantenphysik sowie Komposition und Klangkunst zu einem ungewöhnlichen Dreiklang zusammenzufügen. Gemeinsam wagen Dr. Grünhaupt und Dr. Tichai den Sprung von der Quantenelektronik zur musikalischen Komposition (experimentelle Musik)\, die Dr. Zátonyi an die Kosmologie Hildegards anbindet. Das Ergebnis ist ein hör und denkbarer Dreiklang\, der vertraute Kategorien aufbricht und neue Perspektiven öffnet.
URL:https://hildegard2029.de/event/dialogkonzert-hildegards-kosmologie-trifft-klaenge-aus-der-quantenwelt/
LOCATION:Abtei St. Hildegard\, Abtei St. Hildegard 1\, Rüdesheim\, Hessen\, 65385\, Germany
CATEGORIES:Konzert
ATTACH;FMTTYPE=image/jpeg:https://hildegard2029.de/wp-content/uploads/2025/10/20230418_191834_kl.jpg
END:VEVENT
BEGIN:VEVENT
DTSTART;TZID=Europe/Berlin:20261001T190000
DTEND;TZID=Europe/Berlin:20261001T203000
DTSTAMP:20260420T051258
CREATED:20260122T091128Z
LAST-MODIFIED:20260122T091204Z
UID:10000039-1790881200-1790886600@hildegard2029.de
SUMMARY:Achtung: Schnelllebigkeit
DESCRIPTION:In unserer aktuellen Zeit haben wir oft das Gefühl\, dass alles immer schneller und herausfordernder wird. Bereits vor 900 Jahren hat Hildegard von Bingen dieses Phänomen erkannt und benannt.\nSusanne Oelerich stellt einige erhellende Original-Zitate vor\, die uns für unseren Alltag hilfreiche Impulse geben können.\nIm anschließenden „Walk & Talk“ (auf dem Rundweg zur Panorama-Schaukel – mit Ausblick auf den Rhein) können wir gemeinsam unsere Sichtweise hierüber austauschen. \n01. Oktober 2026\, 19:00 – ca. 20:30 Uhr\n(St. Hildegardishaus/ Kloster UND Weinberg\, Rochusberg 1\, 55411 Bingen)
URL:https://hildegard2029.de/event/achtung-schnelllebigkeit/
LOCATION:St. Hildegardishaus / Kloster UND Weinberg\, Rochusberg 1\, Bingen\, Rheinland-Pfalz\, 55411\, Germany
CATEGORIES:Gesprächskreis
ATTACH;FMTTYPE=image/jpeg:https://hildegard2029.de/wp-content/uploads/2025/10/8799-Hildegardstehle-kl.jpg
END:VEVENT
END:VCALENDAR