BEGIN:VCALENDAR
VERSION:2.0
PRODID:-//Hildegard 2029 - ECPv6.15.20//NONSGML v1.0//EN
CALSCALE:GREGORIAN
METHOD:PUBLISH
X-ORIGINAL-URL:https://hildegard2029.de
X-WR-CALDESC:Veranstaltungen für Hildegard 2029
REFRESH-INTERVAL;VALUE=DURATION:PT1H
X-Robots-Tag:noindex
X-PUBLISHED-TTL:PT1H
BEGIN:VTIMEZONE
TZID:Europe/Berlin
BEGIN:DAYLIGHT
TZOFFSETFROM:+0100
TZOFFSETTO:+0200
TZNAME:CEST
DTSTART:20240331T010000
END:DAYLIGHT
BEGIN:STANDARD
TZOFFSETFROM:+0200
TZOFFSETTO:+0100
TZNAME:CET
DTSTART:20241027T010000
END:STANDARD
BEGIN:DAYLIGHT
TZOFFSETFROM:+0100
TZOFFSETTO:+0200
TZNAME:CEST
DTSTART:20250330T010000
END:DAYLIGHT
BEGIN:STANDARD
TZOFFSETFROM:+0200
TZOFFSETTO:+0100
TZNAME:CET
DTSTART:20251026T010000
END:STANDARD
BEGIN:DAYLIGHT
TZOFFSETFROM:+0100
TZOFFSETTO:+0200
TZNAME:CEST
DTSTART:20260329T010000
END:DAYLIGHT
BEGIN:STANDARD
TZOFFSETFROM:+0200
TZOFFSETTO:+0100
TZNAME:CET
DTSTART:20261025T010000
END:STANDARD
END:VTIMEZONE
BEGIN:VEVENT
DTSTART;TZID=Europe/Berlin:20251030T190000
DTEND;TZID=Europe/Berlin:20251030T210000
DTSTAMP:20260423T091437
CREATED:20250928T185538Z
LAST-MODIFIED:20250928T185618Z
UID:10000013-1761850800-1761858000@hildegard2029.de
SUMMARY:Hildegard von Bingen und das Alexandrinische Schisma
DESCRIPTION:Hildegard von Bingen und das Alexandrinische Schisma. Ein kirchenpolitischer Konflikt im Zeitalter Friedrich Barbarossas \nProf. Dr. Michael Oberweis:  \n1159 kam es in Rom zu einer zwiespältigen Papstwahl\, die in einen fast zwei Jahrzehnte währenden Kirchenstreit mündete. Verschärft wurde das „Alexandrinische Schisma“ (1159–1177) durch das Eingreifen weltlicher Mächte: Während sich Frankreich und England auf die Seite Papst Alexanders III. stellten\, entschied sich Kaiser Friedrich Barbarossa für dessen Gegenspieler\, Viktor IV. Für Kleriker und Ordensleute im Reich bedeutete der Konflikt eine schwere Belastungsprobe. In diesem schwierigen Umfeld musste sich auch Hildegard von Bingen\, als Äbtissin wie auch als Visionärin\, positionieren. \nVeranstaltungsort: Villa Rupertsberg | Am Rupertsberg 16\, 55411 Bingen-Bingerbrück \nBeitragsbild © Hildegund Lautensack
URL:https://hildegard2029.de/event/hildegard-von-bingen-und-das-alexandrinische-schisma/
LOCATION:Villa Rupertsberg\, Am Rupertsberg 16\, Bingen-Bingerbrück\, Rheinland-Pfalz\, 55411\, Germany
CATEGORIES:Vortrag
ATTACH;FMTTYPE=image/jpeg:https://hildegard2029.de/wp-content/uploads/2025/09/Villa-Rupertsberg-Hildegund-Lautensack-kl.jpg
END:VEVENT
END:VCALENDAR