BEGIN:VCALENDAR
VERSION:2.0
PRODID:-//Hildegard 2029 - ECPv6.15.20//NONSGML v1.0//EN
CALSCALE:GREGORIAN
METHOD:PUBLISH
X-WR-CALNAME:Hildegard 2029
X-ORIGINAL-URL:https://hildegard2029.de
X-WR-CALDESC:Veranstaltungen für Hildegard 2029
REFRESH-INTERVAL;VALUE=DURATION:PT1H
X-Robots-Tag:noindex
X-PUBLISHED-TTL:PT1H
BEGIN:VTIMEZONE
TZID:Europe/Berlin
BEGIN:DAYLIGHT
TZOFFSETFROM:+0100
TZOFFSETTO:+0200
TZNAME:CEST
DTSTART:20240331T010000
END:DAYLIGHT
BEGIN:STANDARD
TZOFFSETFROM:+0200
TZOFFSETTO:+0100
TZNAME:CET
DTSTART:20241027T010000
END:STANDARD
BEGIN:DAYLIGHT
TZOFFSETFROM:+0100
TZOFFSETTO:+0200
TZNAME:CEST
DTSTART:20250330T010000
END:DAYLIGHT
BEGIN:STANDARD
TZOFFSETFROM:+0200
TZOFFSETTO:+0100
TZNAME:CET
DTSTART:20251026T010000
END:STANDARD
BEGIN:DAYLIGHT
TZOFFSETFROM:+0100
TZOFFSETTO:+0200
TZNAME:CEST
DTSTART:20260329T010000
END:DAYLIGHT
BEGIN:STANDARD
TZOFFSETFROM:+0200
TZOFFSETTO:+0100
TZNAME:CET
DTSTART:20261025T010000
END:STANDARD
END:VTIMEZONE
BEGIN:VEVENT
DTSTART;TZID=Europe/Berlin:20251106T190000
DTEND;TZID=Europe/Berlin:20251106T203000
DTSTAMP:20260423T134037
CREATED:20251006T110217Z
LAST-MODIFIED:20251006T110217Z
UID:10000018-1762455600-1762461000@hildegard2029.de
SUMMARY:Was sagt Hildegard...? | Ziel: Innere Stärke
DESCRIPTION:Ziel: Innere Stärke\nWas sagt Hildegard…? | Hildegard-Gesprächskreis Rheinhessen-Nahe \nAngeregt durch packende Hildegard-Zitate können Sie an diesem Abend Ihre persönliche Ziel-Collage erstellen. So haben Sie jeden Tag einen freudigen Blick darauf\, wie sich innere Stärke anfühlt. Susanne Eva Oelerich begleitet Sie mit hilfreiche Tipps hierfür. \nBitte Schere\, Klebstift\, 1 größeres Blatt und ggf. mehrere Zeitschriften zum Ausschneiden mitbringen. \n06. November 2025\, 19:00 – ca. 20:30 Uhr\n(Rupertsberger Gewölbe\, Am Rupertsberg 16\, 55411 Bingen-Bingerbrück) \n  \n  \n 
URL:https://hildegard2029.de/event/was-sagt-hildegard-ziel-innere-staerke/
LOCATION:Rupertsberger Gewölbe\, Am Rupertsberg 16\, Bingen-Bingerbrück\, Rheinland-Pfalz\, 55411\, Germany
CATEGORIES:Gesprächskreis
ATTACH;FMTTYPE=image/jpeg:https://hildegard2029.de/wp-content/uploads/2025/10/8799-Hildegardstehle-kl.jpg
END:VEVENT
END:VCALENDAR