BEGIN:VCALENDAR
VERSION:2.0
PRODID:-//Hildegard 2029 - ECPv6.15.20//NONSGML v1.0//EN
CALSCALE:GREGORIAN
METHOD:PUBLISH
X-WR-CALNAME:Hildegard 2029
X-ORIGINAL-URL:https://hildegard2029.de
X-WR-CALDESC:Veranstaltungen für Hildegard 2029
REFRESH-INTERVAL;VALUE=DURATION:PT1H
X-Robots-Tag:noindex
X-PUBLISHED-TTL:PT1H
BEGIN:VTIMEZONE
TZID:Europe/Berlin
BEGIN:DAYLIGHT
TZOFFSETFROM:+0100
TZOFFSETTO:+0200
TZNAME:CEST
DTSTART:20240331T010000
END:DAYLIGHT
BEGIN:STANDARD
TZOFFSETFROM:+0200
TZOFFSETTO:+0100
TZNAME:CET
DTSTART:20241027T010000
END:STANDARD
BEGIN:DAYLIGHT
TZOFFSETFROM:+0100
TZOFFSETTO:+0200
TZNAME:CEST
DTSTART:20250330T010000
END:DAYLIGHT
BEGIN:STANDARD
TZOFFSETFROM:+0200
TZOFFSETTO:+0100
TZNAME:CET
DTSTART:20251026T010000
END:STANDARD
BEGIN:DAYLIGHT
TZOFFSETFROM:+0100
TZOFFSETTO:+0200
TZNAME:CEST
DTSTART:20260329T010000
END:DAYLIGHT
BEGIN:STANDARD
TZOFFSETFROM:+0200
TZOFFSETTO:+0100
TZNAME:CET
DTSTART:20261025T010000
END:STANDARD
END:VTIMEZONE
BEGIN:VEVENT
DTSTART;TZID=Europe/Berlin:20251110T190000
DTEND;TZID=Europe/Berlin:20251110T210000
DTSTAMP:20260423T134039
CREATED:20250928T185025Z
LAST-MODIFIED:20251015T092534Z
UID:10000012-1762801200-1762808400@hildegard2029.de
SUMMARY:Workshop mit Rudolf Polzer: Destillation von ätherischem Lavendelöl
DESCRIPTION:„Lavendel ist heiß und trocken … und sein Duft macht die Augen klar… “ (Hildegard von Bingen). Ätherische Öle sind für den Duft einer Pflanze entscheidend. Sie enthalten deren Lebenskraft in konzentrierter Form. Der Drogist Rudolf Polzer aus Bingen beschäftigt sich seit 10 Jahren intensiv mit ätherischen Ölen. An diesem Abend demonstriert er die Destillation von Lavendelblüten und erklärt dabei die Anwendung. Rezepte werden mitgeliefert. Die Teilnehmer können mit dem ätherischen Öl etwas für den Eigengebrauch oder als Geschenk herstellen. Diese Produkte sind mindestens ein Jahr haltbar. \nKostenbeitrag: 10 €\,  \nWir bitten um Anmeldung: info@rhg-bingen.de oder 06721 308835 \n  \n 
URL:https://hildegard2029.de/event/workshop-mit-rudolf-polzer-destillation-von-aetherischem-lavendeloel/
LOCATION:Rupertsberger Gewölbe\, Am Rupertsberg 16\, Bingen-Bingerbrück\, Rheinland-Pfalz\, 55411\, Germany
CATEGORIES:Vortrag
ATTACH;FMTTYPE=image/jpeg:https://hildegard2029.de/wp-content/uploads/2025/09/Lavendel-kl.jpg
ORGANIZER;CN="Rupertsberger Hildegard-Gesellschaft Bingen e.V":MAILTO:info@rhg-Bingen.de
END:VEVENT
END:VCALENDAR