BEGIN:VCALENDAR
VERSION:2.0
PRODID:-//Hildegard 2029 - ECPv6.15.20//NONSGML v1.0//EN
CALSCALE:GREGORIAN
METHOD:PUBLISH
X-WR-CALNAME:Hildegard 2029
X-ORIGINAL-URL:https://hildegard2029.de
X-WR-CALDESC:Veranstaltungen für Hildegard 2029
REFRESH-INTERVAL;VALUE=DURATION:PT1H
X-Robots-Tag:noindex
X-PUBLISHED-TTL:PT1H
BEGIN:VTIMEZONE
TZID:Europe/Berlin
BEGIN:DAYLIGHT
TZOFFSETFROM:+0100
TZOFFSETTO:+0200
TZNAME:CEST
DTSTART:20250330T010000
END:DAYLIGHT
BEGIN:STANDARD
TZOFFSETFROM:+0200
TZOFFSETTO:+0100
TZNAME:CET
DTSTART:20251026T010000
END:STANDARD
BEGIN:DAYLIGHT
TZOFFSETFROM:+0100
TZOFFSETTO:+0200
TZNAME:CEST
DTSTART:20260329T010000
END:DAYLIGHT
BEGIN:STANDARD
TZOFFSETFROM:+0200
TZOFFSETTO:+0100
TZNAME:CET
DTSTART:20261025T010000
END:STANDARD
BEGIN:DAYLIGHT
TZOFFSETFROM:+0100
TZOFFSETTO:+0200
TZNAME:CEST
DTSTART:20270328T010000
END:DAYLIGHT
BEGIN:STANDARD
TZOFFSETFROM:+0200
TZOFFSETTO:+0100
TZNAME:CET
DTSTART:20271031T010000
END:STANDARD
END:VTIMEZONE
BEGIN:VEVENT
DTSTART;TZID=Europe/Berlin:20260121T183000
DTEND;TZID=Europe/Berlin:20260121T200000
DTSTAMP:20260424T015340
CREATED:20251022T194921Z
LAST-MODIFIED:20251022T195125Z
UID:10000020-1769020200-1769025600@hildegard2029.de
SUMMARY:Schöpfungsspiritualität bei Hildegard von Bingen
DESCRIPTION:Mittwoch\, 21. Januar\, 18:30 Uhr \nSchöpfungsspiritualität bei Hildegard von Bingen\nSr. Christophora Janssen OSB\nLange vergessen\, heute wieder aktuell: die spirituelle Sicht auf die Schöpfung. Schwester Christophora Janssen\, Benediktinerin der Abtei St. Hildegard\, lädt ein zu einer Begegnung mit der heiligen Hildegard\, deren Denken überraschend modern wirkt. Im Mittelpunkt steht ihr Begriff der Viriditas – die göttliche Lebenskraft\, die alles durchdringt und verbindet. Der Vortrag eröffnet neue Zugänge zu Hildegards Welt und zeigt\, wie ihre Schöpfungsspiritualität inspirierende Impulse für unsere Zeit bereithält.“
URL:https://hildegard2029.de/event/schoepfungsspiritualitaet-bei-hildegard-von-bingen/
LOCATION:Abtei St. Hildegard\, Abtei St. Hildegard 1\, Rüdesheim\, Hessen\, 65385\, Germany
CATEGORIES:Vortrag
ATTACH;FMTTYPE=image/jpeg:https://hildegard2029.de/wp-content/uploads/2025/10/20230418_191834_kl.jpg
END:VEVENT
END:VCALENDAR