BEGIN:VCALENDAR
VERSION:2.0
PRODID:-//Hildegard 2029 - ECPv6.15.20//NONSGML v1.0//EN
CALSCALE:GREGORIAN
METHOD:PUBLISH
X-ORIGINAL-URL:https://hildegard2029.de
X-WR-CALDESC:Veranstaltungen für Hildegard 2029
REFRESH-INTERVAL;VALUE=DURATION:PT1H
X-Robots-Tag:noindex
X-PUBLISHED-TTL:PT1H
BEGIN:VTIMEZONE
TZID:Europe/Berlin
BEGIN:DAYLIGHT
TZOFFSETFROM:+0100
TZOFFSETTO:+0200
TZNAME:CEST
DTSTART:20250330T010000
END:DAYLIGHT
BEGIN:STANDARD
TZOFFSETFROM:+0200
TZOFFSETTO:+0100
TZNAME:CET
DTSTART:20251026T010000
END:STANDARD
BEGIN:DAYLIGHT
TZOFFSETFROM:+0100
TZOFFSETTO:+0200
TZNAME:CEST
DTSTART:20260329T010000
END:DAYLIGHT
BEGIN:STANDARD
TZOFFSETFROM:+0200
TZOFFSETTO:+0100
TZNAME:CET
DTSTART:20261025T010000
END:STANDARD
BEGIN:DAYLIGHT
TZOFFSETFROM:+0100
TZOFFSETTO:+0200
TZNAME:CEST
DTSTART:20270328T010000
END:DAYLIGHT
BEGIN:STANDARD
TZOFFSETFROM:+0200
TZOFFSETTO:+0100
TZNAME:CET
DTSTART:20271031T010000
END:STANDARD
END:VTIMEZONE
BEGIN:VEVENT
DTSTART;TZID=Europe/Berlin:20260422T190000
DTEND;TZID=Europe/Berlin:20260422T200000
DTSTAMP:20260420T002933
CREATED:20260112T090224Z
LAST-MODIFIED:20260112T090224Z
UID:10000035-1776884400-1776888000@hildegard2029.de
SUMMARY:Erfolgte im 13. Jahrhundert eine bischöfliche Heiligsprechung Hildegards von Bingen?
DESCRIPTION:Vortrag von Klaus Peper unter besonderer Bezugnahme auf den Rupertsberger Altarvorhang\n \nBis zur Kanonisation der hl. Hildegard durch Papst Benedikt XVI. am 10. Mai 2012 wurde die Titulierung Hildegards als Heilige trotz des gescheiterten Kanonisationsversuchs im 13. Jahrhundert regelmäßig damit begründet -offenbar aus Verlegenheit-\, Hildegard sei „vom Volk heilig gesprochen” worden. \n  \nKlaus Peper wird in seinem Vortrag erläutern\, was unter einer bischöflichen Heiligsprechung zu verstehen ist\, ob in der ersten Hälfte des 13. Jahrhundert die Bedingungen für eine solche Heiligsprechung gegeben waren\, welche sieben Indizien dafür sprechen\, dass Hildegard eine solche erfahren hat\, und was dagegen spricht. \n 
URL:https://hildegard2029.de/event/erfolgte-im-13-jahrhundert-eine-bischoefliche-heiligsprechung-hildegards-von-bingen/
LOCATION:Villa Rupertsberg\, Am Rupertsberg 16\, Bingen-Bingerbrück\, Rheinland-Pfalz\, 55411\, Germany
CATEGORIES:Vortrag
ATTACH;FMTTYPE=image/jpeg:https://hildegard2029.de/wp-content/uploads/2026/01/antependium-ganz.jpg
ORGANIZER;CN="Rupertsberger Hildegard-Gesellschaft Bingen e.V":MAILTO:info@rhg-Bingen.de
END:VEVENT
BEGIN:VEVENT
DTSTART;TZID=Europe/Berlin:20260426T140000
DTEND;TZID=Europe/Berlin:20260426T160000
DTSTAMP:20260420T002933
CREATED:20260225T135236Z
LAST-MODIFIED:20260225T135236Z
UID:10000041-1777212000-1777219200@hildegard2029.de
SUMMARY:Architekturspuren des Disibodenbergs – Themenführung mit Prof. Dr. Astrid von Luxburg
DESCRIPTION:Aus der Zeit Hildegards von Bingen stammen die romanischen Reste der großen Klosterkirche. Rund 100 Jahre nach dem Wegzug Hildegards vom Disibodenberg nach Bingen erlebte die Klosteranlage eine neue Blüte unter den Zisterziensern. Welche Philosophien und Lebensweisen verbinden sich mit den verschiedenen Architekturstilen\, die bis heute auf dem Disibodenberg erfahrbar sind? Wo liegen ihre Wurzeln und welche Rückschlüsse lassen sie auf die Lebensinhalte der Mönche\, Nonnen und Zeitgenossen zu? \nProf. Dr. Astrid Gräfin von Luxburg\, Dozentin für Architekturgeschichte am Fachbereich Landschaftsarchitektur der Hochschule Geisenheim\, ordnet bei ihrer Führung die Anlagen des Disibodenbergs in die Geschichte der gebauten Umwelt ein und veranschaulicht dabei bildreich die Klostergeschichte. Als selbstständige Kulturvermittlerin weiß Frau Prof. Dr. von Luxburg auf dieser Führung zudem viele spannende Details zur Baugeschichte im europäischen Kontext zu berichten. \nIm Anschluss an die Führung besteht die Möglichkeit zum Besuch des Museums. \nReferentin: Prof. Dr. Astrid Gräfin von Luxburg (Kulturgenussexklusiv.de / Hochschule Geisenheim) \nTreffpunkt: Museumshof \nKosten: 10 € inkl. Eintritt \nInfos: anfrage@disibodenberg.de; Eine Anmeldung ist nicht notwendig.
URL:https://hildegard2029.de/event/architekturspuren-des-disibodenbergs-themenfuehrung-mit-prof-dr-astrid-von-luxburg/
LOCATION:Disibodenberg\, Disibodenberger Scivias Stiftung\, Odernheim\, 55571\, Germany
ORGANIZER;CN="Disibodenberger Scivias Stiftung":MAILTO:anfrage@disibodenberg.de
END:VEVENT
END:VCALENDAR