BEGIN:VCALENDAR
VERSION:2.0
PRODID:-//Hildegard 2029 - ECPv6.15.20//NONSGML v1.0//EN
CALSCALE:GREGORIAN
METHOD:PUBLISH
X-WR-CALNAME:Hildegard 2029
X-ORIGINAL-URL:https://hildegard2029.de
X-WR-CALDESC:Veranstaltungen für Hildegard 2029
REFRESH-INTERVAL;VALUE=DURATION:PT1H
X-Robots-Tag:noindex
X-PUBLISHED-TTL:PT1H
BEGIN:VTIMEZONE
TZID:Europe/Berlin
BEGIN:DAYLIGHT
TZOFFSETFROM:+0100
TZOFFSETTO:+0200
TZNAME:CEST
DTSTART:20250330T010000
END:DAYLIGHT
BEGIN:STANDARD
TZOFFSETFROM:+0200
TZOFFSETTO:+0100
TZNAME:CET
DTSTART:20251026T010000
END:STANDARD
BEGIN:DAYLIGHT
TZOFFSETFROM:+0100
TZOFFSETTO:+0200
TZNAME:CEST
DTSTART:20260329T010000
END:DAYLIGHT
BEGIN:STANDARD
TZOFFSETFROM:+0200
TZOFFSETTO:+0100
TZNAME:CET
DTSTART:20261025T010000
END:STANDARD
BEGIN:DAYLIGHT
TZOFFSETFROM:+0100
TZOFFSETTO:+0200
TZNAME:CEST
DTSTART:20270328T010000
END:DAYLIGHT
BEGIN:STANDARD
TZOFFSETFROM:+0200
TZOFFSETTO:+0100
TZNAME:CET
DTSTART:20271031T010000
END:STANDARD
END:VTIMEZONE
BEGIN:VEVENT
DTSTART;TZID=Europe/Berlin:20260305T090000
DTEND;TZID=Europe/Berlin:20260306T110000
DTSTAMP:20260419T221116
CREATED:20251119T130324Z
LAST-MODIFIED:20260211T215442Z
UID:10000028-1772701200-1772794800@hildegard2029.de
SUMMARY:FRAUENFRÜHSTÜCK im März
DESCRIPTION:Die Heilkunde von Hildegard von Bingen aus der Sicht einer Apothekerin\nHildegard von Bingen ist in Deutschland besonders wegen ihrer Heilkunde bekannt.\nWoher hatte sie ihr Wissen? Was waren im Mittelalter die medizinischen Grundlagen? Was hat eine gesunde Lebensweise für Hildegard mit einer harmonischen Beziehung des Menschen zu Gott und der Welt zu tun?\nDiesen Fragen geht die Apothekerin und Franziskusschwester Verena Haase in ihrem Vortrag nach und stellt dabei auch Hildegards wichtigste Heilkräuter vor. \nReferentin: Schwester Verena\nTermine: Do 5. und Fr 6. März 2026\nZeit: 9:00-11:00 Uhr \nBeitragsfoto: Hildegardforum
URL:https://hildegard2029.de/event/frauenfruehstueck-im-maerz/
LOCATION:Hildegard Forum\, Rochusberg 1\, Bingen\, Rheinland-Pfalz\, 55411\, Germany
CATEGORIES:Vortrag
ATTACH;FMTTYPE=image/jpeg:https://hildegard2029.de/wp-content/uploads/2025/11/Frauenfruehstueck_Maerz_2026.jpg
END:VEVENT
END:VCALENDAR